BEGIN:VCALENDAR
VERSION:2.0
PRODID:-//SVP Kanton Zürich //NONSGML Events //EN
CALSCALE:GREGORIAN
X-WR-CALNAME:SVP Kanton Zürich
BEGIN:VEVENT
CREATED:20240708T112649Z
UID:39040
DTEND:20240830T190000
DTSTART:20240830T180000
DTSTAMP:20260425T164920Z
LOCATION:
DESCRIPTION:Armbrustschützenhaus Höngg, Kappenbühlstrasse 80, Zürich, mit Regi
SUMMARY:Stadt Zürich / Kreis 10: Sommer-Grill
ORGANIZER:
URL;VALUE=URI:https://www.svp-zuerich.ch/aktuell/termine/stadt-zuerich-kreis-10-sommer-grill-2/
TRANSP:OPAQUE
END:VEVENT
END:VCALENDAR
