BEGIN:VCALENDAR
VERSION:2.0
PRODID:-//SVP Kanton Zürich //NONSGML Events //EN
CALSCALE:GREGORIAN
X-WR-CALNAME:SVP Kanton Zürich
BEGIN:VEVENT
CREATED:20240708T123044Z
UID:39043
DTEND:20240801T210000
DTSTART:20240801T201500
DTSTAMP:20260425T165008Z
LOCATION:
DESCRIPTION:auf dem Eschenberg, Niederglatt, mit Regierungspräsidentin Natalie Ri
SUMMARY:Bezirk Dielsdorf / Niederglatt: Bundesfeier
ORGANIZER:
URL;VALUE=URI:https://www.svp-zuerich.ch/aktuell/termine/bezirk-dielsdorf-niederglatt-bundesfeier-2/
TRANSP:OPAQUE
END:VEVENT
END:VCALENDAR
