BEGIN:VCALENDAR
VERSION:2.0
PRODID:-//SVP Kanton Zürich //NONSGML Events //EN
CALSCALE:GREGORIAN
X-WR-CALNAME:SVP Kanton Zürich
BEGIN:VEVENT
CREATED:20240711T090659Z
UID:39120
DTEND:20240801T170000
DTSTART:20240801T160000
DTSTAMP:20260425T165055Z
LOCATION:Schulhausplatz\, Gräslikon
DESCRIPTION:
SUMMARY:SVP bi de Lüt: Festansprache von Regierungspräsidentin Natalie Rickli
ORGANIZER:
URL;VALUE=URI:https://www.svp-zuerich.ch/aktuell/termine/svp-bi-de-luet-festansprache-von-regierungspraesidentin-natalie-rickli/
TRANSP:OPAQUE
END:VEVENT
END:VCALENDAR
