BEGIN:VCALENDAR
VERSION:2.0
PRODID:-//SVP Kanton Zürich //NONSGML Events //EN
CALSCALE:GREGORIAN
X-WR-CALNAME:SVP Kanton Zürich
BEGIN:VEVENT
CREATED:20240722T075817Z
UID:39219
DTEND:20240801T210000
DTSTART:20240801T201500
DTSTAMP:20260421T151450Z
LOCATION:
DESCRIPTION:Schulhausplatz, Weiach, mit Nationalrat Mauro Tuena.
SUMMARY:Bezirk Dielsdorf / Weiach: Bundesfeier
ORGANIZER:
URL;VALUE=URI:https://www.svp-zuerich.ch/aktuell/termine/bezirk-dielsdorf-weiach-bundesfeier/
TRANSP:OPAQUE
END:VEVENT
END:VCALENDAR
