BEGIN:VCALENDAR
VERSION:2.0
PRODID:-//SVP Kanton Zürich //NONSGML Events //EN
CALSCALE:GREGORIAN
X-WR-CALNAME:SVP Kanton Zürich
BEGIN:VEVENT
CREATED:20240722T131158Z
UID:39235
DTEND:20240731T220000
DTSTART:20240731T210000
DTSTAMP:20260422T100752Z
LOCATION:
DESCRIPTION:Dorfplatz, Saas-Almagell VS, mit alt Bundesrat Christoph Blocher.
SUMMARY:Kanton Wallis: Bundesfeier
ORGANIZER:
URL;VALUE=URI:https://www.svp-zuerich.ch/aktuell/termine/kanton-wallis-bundesfeier/
TRANSP:OPAQUE
END:VEVENT
END:VCALENDAR
