BEGIN:VCALENDAR
VERSION:2.0
PRODID:-//SVP Kanton Zürich //NONSGML Events //EN
CALSCALE:GREGORIAN
X-WR-CALNAME:SVP Kanton Zürich
BEGIN:VEVENT
CREATED:20241212T133004Z
UID:41630
DTEND:20250921T140000
DTSTART:20250921T100000
DTSTAMP:20260421T102836Z
LOCATION:
DESCRIPTION:Bauernhof Albert Schumacher, Katzenseestrasse 8, Zürich-Affoltern, mi
SUMMARY:Stadt Zürich / Kreis 11: Puurezmorge
ORGANIZER:
URL;VALUE=URI:https://www.svp-zuerich.ch/aktuell/termine/stadt-zuerich-kreis-11-puurezmorge-4/
TRANSP:OPAQUE
END:VEVENT
END:VCALENDAR
