BEGIN:VCALENDAR
VERSION:2.0
PRODID:-//SVP Kanton Zürich //NONSGML Events //EN
CALSCALE:GREGORIAN
X-WR-CALNAME:SVP Kanton Zürich
BEGIN:VEVENT
CREATED:20241217T155744Z
UID:41657
DTEND:20250108T140000
DTSTART:20250108T113000
DTSTAMP:20260421T152214Z
LOCATION:
DESCRIPTION:Restaurant Löwen, Landstrasse 38, Andelfingen, mit Nationalrat Mauro 
SUMMARY:Bezirk Andelfingen: Polit-Lunch
ORGANIZER:
URL;VALUE=URI:https://www.svp-zuerich.ch/aktuell/termine/bezirk-andelfingen-polit-lunch-4/
TRANSP:OPAQUE
END:VEVENT
END:VCALENDAR
