BEGIN:VCALENDAR
VERSION:2.0
PRODID:-//SVP Kanton Zürich //NONSGML Events //EN
CALSCALE:GREGORIAN
X-WR-CALNAME:SVP Kanton Zürich
BEGIN:VEVENT
CREATED:20250205T091735Z
UID:42729
DTEND:20250308T130000
DTSTART:20250308T120000
DTSTAMP:20260425T103658Z
LOCATION:
DESCRIPTION:Hof Blaser, Ober Erlosenstrasse 8, Hinwil, u.a. mit alt Bundesrat Ueli
SUMMARY:Bezirk Hinwil / Hinwil: SVP bi de Lüt
ORGANIZER:
URL;VALUE=URI:https://www.svp-zuerich.ch/aktuell/termine/bezirk-hinwil-hinwil-svp-bi-de-luet/
TRANSP:OPAQUE
END:VEVENT
END:VCALENDAR
