BEGIN:VCALENDAR
VERSION:2.0
PRODID:-//SVP Kanton Zürich //NONSGML Events //EN
CALSCALE:GREGORIAN
X-WR-CALNAME:SVP Kanton Zürich
BEGIN:VEVENT
CREATED:20250217T151949Z
UID:42835
DTEND:20250321T200000
DTSTART:20250321T191500
DTSTAMP:20260423T084145Z
LOCATION:
DESCRIPTION:Gemeindescheune, Oetwil an der Limmat, mit den Nationalräten Alfred H
SUMMARY:Bezirk Dietikon / Oetwil an der Limmat: Polit-Anlass und Abendessen
ORGANIZER:
URL;VALUE=URI:https://www.svp-zuerich.ch/aktuell/termine/bezirk-dietikon-oetwil-an-der-limmat-polit-anlass-und-abendessen/
TRANSP:OPAQUE
END:VEVENT
END:VCALENDAR
