BEGIN:VCALENDAR
VERSION:2.0
PRODID:-//SVP Kanton Zürich //NONSGML Events //EN
CALSCALE:GREGORIAN
X-WR-CALNAME:SVP Kanton Zürich
BEGIN:VEVENT
CREATED:20250226T131701Z
UID:42910
DTEND:20250311T200000
DTSTART:20250311T193000
DTSTAMP:20260420T100331Z
LOCATION:
DESCRIPTION:Kath. Kirchgemeindehaus, Gustav-Maurer-Strasse 13, Zollikon, mit Natio
SUMMARY:Bezirk Meilen / Zollikon: Sessionsbericht
ORGANIZER:
URL;VALUE=URI:https://www.svp-zuerich.ch/aktuell/termine/bezirk-meilen-zollikon-sessionsbericht/
TRANSP:OPAQUE
END:VEVENT
END:VCALENDAR
