BEGIN:VCALENDAR
VERSION:2.0
PRODID:-//SVP Kanton Zürich //NONSGML Events //EN
CALSCALE:GREGORIAN
X-WR-CALNAME:SVP Kanton Zürich
BEGIN:VEVENT
CREATED:20250310T160853Z
UID:43001
DTEND:20250513T190000
DTSTART:20250513T183000
DTSTAMP:20260423T084204Z
LOCATION:
DESCRIPTION:NEUER ORT: Bethaus Wiedikon, Schlossgasse 10, Zürich, mit Nationalrat
SUMMARY:Stadt Zürich / Kreis 3: Podium «Entwicklungshilfe – Wie weiter?»
ORGANIZER:
URL;VALUE=URI:https://www.svp-zuerich.ch/aktuell/termine/stadt-zuerich-kreis-3-podium-entwicklungshilfe-wie-weiter/
TRANSP:OPAQUE
END:VEVENT
END:VCALENDAR
