BEGIN:VCALENDAR
VERSION:2.0
PRODID:-//SVP Kanton ZÃ¼rich //NONSGML Events //EN
CALSCALE:GREGORIAN
X-WR-CALNAME:SVP Kanton ZÃ¼rich
BEGIN:VEVENT
CREATED:20250324T141331Z
UID:43297
DTEND:20250403T200000
DTSTART:20250403T193000
DTSTAMP:20260425T112731Z
LOCATION:
DESCRIPTION:British Classic Cars AG, Hasentalstrasse 3, Knonau, mit den NationalrÃ
SUMMARY:Bezirk Affoltern / Knonau: Sessions-ApÃ©ro
ORGANIZER:
URL;VALUE=URI:https://www.svp-zuerich.ch/aktuell/termine/bezirk-affoltern-knonau-sessions-apero-2/
TRANSP:OPAQUE
END:VEVENT
END:VCALENDAR
