BEGIN:VCALENDAR
VERSION:2.0
PRODID:-//SVP Kanton Zürich //NONSGML Events //EN
CALSCALE:GREGORIAN
X-WR-CALNAME:SVP Kanton Zürich
BEGIN:VEVENT
CREATED:20250324T143734Z
UID:43299
DTEND:20250327T190000
DTSTART:20250327T183000
DTSTAMP:20260425T103826Z
LOCATION:
DESCRIPTION:Zeughausbar, Berchtoldstrasse 10, Uster, mit Nationalrat Mauro Tuena.
SUMMARY:Bezirk Uster / Uster: SVP bi dä Lüt
ORGANIZER:
URL;VALUE=URI:https://www.svp-zuerich.ch/aktuell/termine/bezirk-uster-uster-svp-bi-dae-luet/
TRANSP:OPAQUE
END:VEVENT
END:VCALENDAR
