BEGIN:VCALENDAR
VERSION:2.0
PRODID:-//SVP Kanton Zürich //NONSGML Events //EN
CALSCALE:GREGORIAN
X-WR-CALNAME:SVP Kanton Zürich
BEGIN:VEVENT
CREATED:20250610T084534Z
UID:44204
DTEND:20250801T200000
DTSTART:20250801T193000
DTSTAMP:20260420T093453Z
LOCATION:
DESCRIPTION:beim Gemeindesaal, Zur Mühle 4, Kappel am Albis, mit Nationalrat Greg
SUMMARY:Bezirk Affoltern / Kappel am Albis: Bundesfeier
ORGANIZER:
URL;VALUE=URI:https://www.svp-zuerich.ch/aktuell/termine/bezirk-affoltern-kappel-am-albis-bundesfeier-2/
TRANSP:OPAQUE
END:VEVENT
END:VCALENDAR
