BEGIN:VCALENDAR
VERSION:2.0
PRODID:-//SVP Kanton Zürich //NONSGML Events //EN
CALSCALE:GREGORIAN
X-WR-CALNAME:SVP Kanton Zürich
BEGIN:VEVENT
CREATED:20250610T091313Z
UID:44213
DTEND:20250801T120000
DTSTART:20250801T113000
DTSTAMP:20260425T164742Z
LOCATION:
DESCRIPTION:Grossmünster, Zürich, mit Regierungsrätin Natalie Rickli.
SUMMARY:Stadt Zürich: Bundesfeier
ORGANIZER:
URL;VALUE=URI:https://www.svp-zuerich.ch/aktuell/termine/stadt-zuerich-bundesfeier/
TRANSP:OPAQUE
END:VEVENT
END:VCALENDAR
