BEGIN:VCALENDAR
VERSION:2.0
PRODID:-//SVP Kanton Zürich //NONSGML Events //EN
CALSCALE:GREGORIAN
X-WR-CALNAME:SVP Kanton Zürich
BEGIN:VEVENT
CREATED:20250610T091710Z
UID:44215
DTEND:20250801T200000
DTSTART:20250801T190000
DTSTAMP:20260425T164906Z
LOCATION:
DESCRIPTION:Löwenplatz (bei schlechtem Wetter im Löwensaal), Hausen am Albis, mi
SUMMARY:Bezirk Affoltern / Hausen am Albis: Bundesfeier
ORGANIZER:
URL;VALUE=URI:https://www.svp-zuerich.ch/aktuell/termine/bezirk-affoltern-hausen-am-albis-bundesfeier/
TRANSP:OPAQUE
END:VEVENT
END:VCALENDAR
