BEGIN:VCALENDAR
VERSION:2.0
PRODID:-//SVP Kanton Zürich //NONSGML Events //EN
CALSCALE:GREGORIAN
X-WR-CALNAME:SVP Kanton Zürich
BEGIN:VEVENT
CREATED:20250630T141658Z
UID:44474
DTEND:20250718T190000
DTSTART:20250718T183000
DTSTAMP:20260424T092239Z
LOCATION:
DESCRIPTION:Besenbeiz Huebhof, Hueb 8, Bachs, mit Kantonsrat Patrick Walder. Koste
SUMMARY:Bezirk Dielsdorf / Stadlerberg: Grillabend
ORGANIZER:
URL;VALUE=URI:https://www.svp-zuerich.ch/aktuell/termine/bezirk-dielsdorf-stadlerberg-grillabend/
TRANSP:OPAQUE
END:VEVENT
END:VCALENDAR
