BEGIN:VCALENDAR
VERSION:2.0
PRODID:-//SVP Kanton Zürich //NONSGML Events //EN
CALSCALE:GREGORIAN
X-WR-CALNAME:SVP Kanton Zürich
BEGIN:VEVENT
CREATED:20250707T065823Z
UID:44541
DTEND:20250801T210000
DTSTART:20250801T201500
DTSTAMP:20260425T104010Z
LOCATION:
DESCRIPTION:Halle Schmid Kran AG, Plattenstrasse/Hombrechtikerstrasse, Grüningen,
SUMMARY:Bezirk Hinwil / Grüningen: Bundesfeier
ORGANIZER:
URL;VALUE=URI:https://www.svp-zuerich.ch/aktuell/termine/bezirk-hinwil-grueningen-bundesfeier-2/
TRANSP:OPAQUE
END:VEVENT
END:VCALENDAR
