BEGIN:VCALENDAR
VERSION:2.0
PRODID:-//SVP Kanton Zürich //NONSGML Events //EN
CALSCALE:GREGORIAN
X-WR-CALNAME:SVP Kanton Zürich
BEGIN:VEVENT
CREATED:20250826T135344Z
UID:45462
DTEND:20250909T200000
DTSTART:20250909T190000
DTSTAMP:20260421T115040Z
LOCATION:
DESCRIPTION:Gasthof Hirschen, Winterthurerstrasse 519, Zürich-Schwamendingen, mit
SUMMARY:Stadt Zürich / Kreis 12: Abstimmungspodium
ORGANIZER:
URL;VALUE=URI:https://www.svp-zuerich.ch/aktuell/termine/stadt-zuerich-kreis-12-abstimmungspodium-2/
TRANSP:OPAQUE
END:VEVENT
END:VCALENDAR
