BEGIN:VCALENDAR
VERSION:2.0
PRODID:-//SVP Kanton Zürich //NONSGML Events //EN
CALSCALE:GREGORIAN
X-WR-CALNAME:SVP Kanton Zürich
BEGIN:VEVENT
CREATED:20250904T140826Z
UID:45679
DTEND:20250910T200000
DTSTART:20250910T194500
DTSTAMP:20260425T103954Z
LOCATION:
DESCRIPTION:Reformiertes Kirchgemeindehaus, Gossau, mit Kantonsrat Daniel Wäfler.
SUMMARY:Bezirk Hinwil / Gossau: Abstimmungspodium
ORGANIZER:
URL;VALUE=URI:https://www.svp-zuerich.ch/aktuell/termine/bezirk-hinwil-gossau-abstimmungspodium/
TRANSP:OPAQUE
END:VEVENT
END:VCALENDAR
