BEGIN:VCALENDAR
VERSION:2.0
PRODID:-//SVP Kanton Zürich //NONSGML Events //EN
CALSCALE:GREGORIAN
X-WR-CALNAME:SVP Kanton Zürich
BEGIN:VEVENT
CREATED:20251002T085141Z
UID:46072
DTEND:20251013T200000
DTSTART:20251013T190000
DTSTAMP:20260423T084144Z
LOCATION:
DESCRIPTION:Zentrum Glockenhof, Sihlstrasse 33, Zürich, mit Bundesrat Albert Rös
SUMMARY:Stadt Zürich / Kreis 1 und 2: Podium zur Verkehrspolitik
ORGANIZER:
URL;VALUE=URI:https://www.svp-zuerich.ch/aktuell/termine/stadt-zuerich-kreis-1-und-2-podium-zur-verkehrspolitik/
TRANSP:OPAQUE
END:VEVENT
END:VCALENDAR
