BEGIN:VCALENDAR
VERSION:2.0
PRODID:-//SVP Kanton Zürich //NONSGML Events //EN
CALSCALE:GREGORIAN
X-WR-CALNAME:SVP Kanton Zürich
BEGIN:VEVENT
CREATED:20260106T155631Z
UID:47303
DTEND:20260109T200000
DTSTART:20260109T193000
DTSTAMP:20260421T101025Z
LOCATION:
DESCRIPTION:Gasthof Hirschen, Winterthurerstrasse 519, Zürich-Schwamendingen, mit
SUMMARY:Stadt Zürich / Kreis 12: Podium zu den Stadtratswahlen
ORGANIZER:
URL;VALUE=URI:https://www.svp-zuerich.ch/aktuell/termine/stadt-zuerich-kreis-12-podium-zu-den-stadtratswahlen/
TRANSP:OPAQUE
END:VEVENT
END:VCALENDAR
