BEGIN:VCALENDAR
VERSION:2.0
PRODID:-//SVP Kanton Zürich //NONSGML Events //EN
CALSCALE:GREGORIAN
X-WR-CALNAME:SVP Kanton Zürich
BEGIN:VEVENT
CREATED:20260107T085433Z
UID:47319
DTEND:20260113T200000
DTSTART:20260113T193000
DTSTAMP:20260421T151338Z
LOCATION:
DESCRIPTION:Riegelhüsli, Dorfstrasse 34, Bonstetten, mit den Nationalräten Marti
SUMMARY:Bezirk Affoltern / Bonstetten: Sessions-Apéro
ORGANIZER:
URL;VALUE=URI:https://www.svp-zuerich.ch/aktuell/termine/bezirk-affoltern-bonstetten-sessions-apero-3/
TRANSP:OPAQUE
END:VEVENT
END:VCALENDAR
