BEGIN:VCALENDAR
VERSION:2.0
PRODID:-//SVP Kanton Zürich //NONSGML Events //EN
CALSCALE:GREGORIAN
X-WR-CALNAME:SVP Kanton Zürich
BEGIN:VEVENT
CREATED:20260115T131345Z
UID:47458
DTEND:20260131T150000
DTSTART:20260131T140000
DTSTAMP:20260421T103616Z
LOCATION:
DESCRIPTION:Ziegelhöhe, oberhalb Restaurant Ziegelhütte, Hüttenkopfstrasse, Zü
SUMMARY:Stadt Zürich / Kreis 12: Schwamendinger Lichtmess
ORGANIZER:
URL;VALUE=URI:https://www.svp-zuerich.ch/aktuell/termine/stadt-zuerich-kreis-12-schwamendinger-lichtmess-4/
TRANSP:OPAQUE
END:VEVENT
END:VCALENDAR
