BEGIN:VCALENDAR
VERSION:2.0
PRODID:-//SVP Kanton Zürich //NONSGML Events //EN
CALSCALE:GREGORIAN
X-WR-CALNAME:SVP Kanton Zürich
BEGIN:VEVENT
CREATED:20260303T081616Z
UID:48095
DTEND:20260312T200000
DTSTART:20260312T193000
DTSTAMP:20260425T103633Z
LOCATION:
DESCRIPTION:bei Urs Blaser, Ober Erlosenstrasse 8, Hinwil, mit Kantonsrat Daniel W
SUMMARY:Bezirk Hinwil / Hinwil: Wahlveranstaltung
ORGANIZER:
URL;VALUE=URI:https://www.svp-zuerich.ch/aktuell/termine/bezirk-hinwil-hinwil-wahlveranstaltung/
TRANSP:OPAQUE
END:VEVENT
END:VCALENDAR
