BEGIN:VCALENDAR
VERSION:2.0
PRODID:-//SVP Kanton Zürich //NONSGML Events //EN
CALSCALE:GREGORIAN
X-WR-CALNAME:SVP Kanton Zürich
BEGIN:VEVENT
CREATED:20260420T151134Z
UID:48858
DTEND:20260501T120000
DTSTART:20260501T113000
DTSTAMP:20260420T185557Z
LOCATION:
DESCRIPTION:Grill Plausch bei Kurt + Elsbeth Bräm, im Basi, Dietikon. Gastredner:
SUMMARY:Bezirk Dietikon / Dietikon: Grill Plausch am 1. Mai
ORGANIZER:
URL;VALUE=URI:https://www.svp-zuerich.ch/aktuell/termine/bezirk-dietikon-dietikon-grill-plausch-am-1-mai/
TRANSP:OPAQUE
END:VEVENT
END:VCALENDAR
