BEGIN:VCALENDAR
VERSION:2.0
PRODID:-//SVP Kanton Zürich //NONSGML Events //EN
CALSCALE:GREGORIAN
X-WR-CALNAME:SVP Kanton Zürich
BEGIN:VEVENT
CREATED:20260421T055104Z
UID:48862
DTEND:20260606T140000
DTSTART:20260606T130000
DTSTAMP:20260424T035225Z
LOCATION:
DESCRIPTION:Mehlhüsli, Stationsstrasse 2, Seuzach, mit Alt Bundesrat Ueli Maurer 
SUMMARY:Bezirk Winterthur / Seuzach: Veranstaltung gegen den EU-Unterwerfungsvertrag
ORGANIZER:
URL;VALUE=URI:https://www.svp-zuerich.ch/aktuell/termine/bezirk-winterthur-seuzach-ohringen-veranstaltung-gegen-den-eu-unterwerfungsvertrag/
TRANSP:OPAQUE
END:VEVENT
END:VCALENDAR
