BEGIN:VCALENDAR
VERSION:2.0
PRODID:-//SVP Kanton Zürich //NONSGML Events //EN
CALSCALE:GREGORIAN
X-WR-CALNAME:SVP Kanton Zürich
BEGIN:VEVENT
CREATED:20260421T151645Z
UID:48879
DTEND:20260512T200000
DTSTART:20260512T193000
DTSTAMP:20260424T035327Z
LOCATION:
DESCRIPTION:72. Generalversammlung der SVP Russikon, Rest. Krone im kleinen Saal, 
SUMMARY:Bezirk Pfäffikon / Russikon: Generalversammlung
ORGANIZER:
URL;VALUE=URI:https://www.svp-zuerich.ch/aktuell/termine/bezirk-pfaeffikon-russikon/
TRANSP:OPAQUE
END:VEVENT
END:VCALENDAR
