BEGIN:VCALENDAR
VERSION:2.0
PRODID:-//SVP Kanton Zürich //NONSGML Events //EN
CALSCALE:GREGORIAN
X-WR-CALNAME:SVP Kanton Zürich
BEGIN:VEVENT
CREATED:20260423T095519Z
UID:48993
DTEND:20260502T110000
DTSTART:20260502T100000
DTSTAMP:20260423T180624Z
LOCATION:
DESCRIPTION:Lindehus Turbenthal, Lindenweg 2, Turbenthal, mit Kantonsrat Tobias We
SUMMARY:Bezirk Winterthur / Turbenthal: Podium Nachhaltigkeits-Initiative und EU-Vertrag
ORGANIZER:
URL;VALUE=URI:https://www.svp-zuerich.ch/aktuell/termine/bezirk-winterthur-turbenthal-podium-zur-nachhaltigkeits-initiative-und-zum-eu-vertrag/
TRANSP:OPAQUE
END:VEVENT
END:VCALENDAR
